BEGIN:VCALENDAR
VERSION:2.0
PRODID:-//Ensemble Guillaume Boni - ECPv6.15.20//NONSGML v1.0//EN
CALSCALE:GREGORIAN
METHOD:PUBLISH
X-WR-CALNAME:Ensemble Guillaume Boni
X-ORIGINAL-URL:https://ensemble-boni.org
X-WR-CALDESC:Évènements pour Ensemble Guillaume Boni
REFRESH-INTERVAL;VALUE=DURATION:PT1H
X-Robots-Tag:noindex
X-PUBLISHED-TTL:PT1H
BEGIN:VTIMEZONE
TZID:Europe/Paris
BEGIN:DAYLIGHT
TZOFFSETFROM:+0100
TZOFFSETTO:+0200
TZNAME:CEST
DTSTART:20240331T010000
END:DAYLIGHT
BEGIN:STANDARD
TZOFFSETFROM:+0200
TZOFFSETTO:+0100
TZNAME:CET
DTSTART:20241027T010000
END:STANDARD
BEGIN:DAYLIGHT
TZOFFSETFROM:+0100
TZOFFSETTO:+0200
TZNAME:CEST
DTSTART:20250330T010000
END:DAYLIGHT
BEGIN:STANDARD
TZOFFSETFROM:+0200
TZOFFSETTO:+0100
TZNAME:CET
DTSTART:20251026T010000
END:STANDARD
BEGIN:DAYLIGHT
TZOFFSETFROM:+0100
TZOFFSETTO:+0200
TZNAME:CEST
DTSTART:20260329T010000
END:DAYLIGHT
BEGIN:STANDARD
TZOFFSETFROM:+0200
TZOFFSETTO:+0100
TZNAME:CET
DTSTART:20261025T010000
END:STANDARD
END:VTIMEZONE
BEGIN:VEVENT
DTSTART;TZID=Europe/Paris:20250710T210000
DTEND;TZID=Europe/Paris:20250710T223000
DTSTAMP:20260422T140140
CREATED:20250314T215936Z
LAST-MODIFIED:20250701T110416Z
UID:23055-1752181200-1752186600@ensemble-boni.org
SUMMARY:Musique française XIX-XXème siècle - La Bernerie en Retz
DESCRIPTION:Dans le cadre de la 43ème édition des « Jeudis de l’Orgue de la Bernerie ». \nEnsemble Guillaume Boni\, sous la direction d’Etienne Roullet. \nOrgue : Frédéric Labarre\, titulaire de l’Orgue Louis Debierre de Notre Dame-de-Toutes-Joies à Nantes.
URL:https://ensemble-boni.org/concert/musique-francaise-xix-xx-eme-siecle-la-bernerie-en-retz/
LOCATION:Eglise Notre-Dame de Bon Secours\, La Bernerie-en-Retz\, 12 Rue Jean Duplessis\, La Bernerie-en-Retz\, 44760\, France
ATTACH;FMTTYPE=image/png:https://ensemble-boni.org/wp-content/uploads/2025/03/affiche-concert-2025-07-10-bernerie.png
ORGANIZER;CN="Les Amis de l%E2%80%99Orgue de La Bernerie en Retz":MAILTO:orgami44760@gmail.com
END:VEVENT
END:VCALENDAR