BEGIN:VCALENDAR
VERSION:2.0
PRODID:-//Ensemble Guillaume Boni - ECPv6.15.20//NONSGML v1.0//EN
CALSCALE:GREGORIAN
METHOD:PUBLISH
X-WR-CALNAME:Ensemble Guillaume Boni
X-ORIGINAL-URL:https://ensemble-boni.org
X-WR-CALDESC:Évènements pour Ensemble Guillaume Boni
REFRESH-INTERVAL;VALUE=DURATION:PT1H
X-Robots-Tag:noindex
X-PUBLISHED-TTL:PT1H
BEGIN:VTIMEZONE
TZID:Europe/Paris
BEGIN:DAYLIGHT
TZOFFSETFROM:+0100
TZOFFSETTO:+0200
TZNAME:CEST
DTSTART:20240331T010000
END:DAYLIGHT
BEGIN:STANDARD
TZOFFSETFROM:+0200
TZOFFSETTO:+0100
TZNAME:CET
DTSTART:20241027T010000
END:STANDARD
BEGIN:DAYLIGHT
TZOFFSETFROM:+0100
TZOFFSETTO:+0200
TZNAME:CEST
DTSTART:20250330T010000
END:DAYLIGHT
BEGIN:STANDARD
TZOFFSETFROM:+0200
TZOFFSETTO:+0100
TZNAME:CET
DTSTART:20251026T010000
END:STANDARD
BEGIN:DAYLIGHT
TZOFFSETFROM:+0100
TZOFFSETTO:+0200
TZNAME:CEST
DTSTART:20260329T010000
END:DAYLIGHT
BEGIN:STANDARD
TZOFFSETFROM:+0200
TZOFFSETTO:+0100
TZNAME:CET
DTSTART:20261025T010000
END:STANDARD
END:VTIMEZONE
BEGIN:VEVENT
DTSTART;TZID=Europe/Paris:20250308T200000
DTEND;TZID=Europe/Paris:20250308T210000
DTSTAMP:20260422T201503
CREATED:20250126T163804Z
LAST-MODIFIED:20250226T210816Z
UID:29-1741464000-1741467600@ensemble-boni.org
SUMMARY:Cantates de Bach - Nantes St Similien
DESCRIPTION:Cantates 4 et 39 de J.S. Bach\nSuite pour orchestre n°1\nAvec l’ensemble instrumental « Barok en Stock« 
URL:https://ensemble-boni.org/concert/cantates-de-bach-nantes-st-similien/
LOCATION:Église Saint-Similien\, Nantes\, Place St Similien\, Nantes\, 44000
ATTACH;FMTTYPE=image/jpeg:https://ensemble-boni.org/wp-content/uploads/2025/01/affiche-concert-2025-03-08-nantes.jpg
ORGANIZER;CN="Ensemble vocal Guillaume Boni":MAILTO:contact@ensemble-boni.org
END:VEVENT
BEGIN:VEVENT
DTSTART;TZID=Europe/Paris:20250309T160000
DTEND;TZID=Europe/Paris:20250309T170000
DTSTAMP:20260422T201503
CREATED:20250126T164247Z
LAST-MODIFIED:20250226T211006Z
UID:32-1741536000-1741539600@ensemble-boni.org
SUMMARY:Cantates de Bach - Saint-Nazaire Sainte-Anne
DESCRIPTION:Cantates 4 et 39 de J.S. Bach\nSuite pour orchestre n°1\nAvec l’ensemble instrumental « Barok en Stock« 
URL:https://ensemble-boni.org/concert/cantates-de-bach-saint-nazaire-sainte-anne/
LOCATION:Église Sainte-Anne\, Saint-Nazaire\, 28 boulevard Mermoz\, Saint-Nazaire\, 44600\, France
ATTACH;FMTTYPE=image/jpeg:https://ensemble-boni.org/wp-content/uploads/2025/01/affiche-concert-2025-03-08-nantes.jpg
END:VEVENT
BEGIN:VEVENT
DTSTART;TZID=Europe/Paris:20250330T143000
DTEND;TZID=Europe/Paris:20250330T163000
DTSTAMP:20260422T201503
CREATED:20250227T155002Z
LAST-MODIFIED:20250227T155158Z
UID:14273-1743345000-1743352200@ensemble-boni.org
SUMMARY:Fraternité L'Écoute de la Rue - Nantes Sainte-Thérèse
DESCRIPTION:La Fraternité L’Écoute de la Rue rencontre\, accueille\, accompagne des personnes en situation de précarité notamment sans-abri. \nPour soutenir sa mission\, l’ensemble vocal et instrumental Variabilis\, l’ensemble vocal Guillaume Boni et la chorale Au Clair de la Rue s’unissent pour un concert exceptionnel le dimanche 30 mars 2025 à 14h30 en l’église Sainte-Thérèse de Nantes (place Alexandre Vincent\, 44100 Nantes\, tram Arrêt Alexandre Vincent). \nEntrée libre
URL:https://ensemble-boni.org/concert/fraternite-lecoute-de-la-rue-nantes-sainte-therese/
LOCATION:Église Sainte-Thérèse\, Nantes\, Place Alexandre Vincent\, Nantes\, 44100\, France
ATTACH;FMTTYPE=image/jpeg:https://ensemble-boni.org/wp-content/uploads/2025/02/affiche-concert-2025-03-30-nantes.jpg
ORGANIZER;CN="Fraternit%C3%A9 L'%C3%89coute de la Rue":MAILTO:fratecoutedelarue@gmail.com
END:VEVENT
END:VCALENDAR