BEGIN:VCALENDAR
VERSION:2.0
PRODID:-//Ensemble Guillaume Boni - ECPv6.15.20//NONSGML v1.0//EN
CALSCALE:GREGORIAN
METHOD:PUBLISH
X-WR-CALNAME:Ensemble Guillaume Boni
X-ORIGINAL-URL:https://ensemble-boni.org
X-WR-CALDESC:Évènements pour Ensemble Guillaume Boni
REFRESH-INTERVAL;VALUE=DURATION:PT1H
X-Robots-Tag:noindex
X-PUBLISHED-TTL:PT1H
BEGIN:VTIMEZONE
TZID:Europe/Paris
BEGIN:DAYLIGHT
TZOFFSETFROM:+0100
TZOFFSETTO:+0200
TZNAME:CEST
DTSTART:20230326T010000
END:DAYLIGHT
BEGIN:STANDARD
TZOFFSETFROM:+0200
TZOFFSETTO:+0100
TZNAME:CET
DTSTART:20231029T010000
END:STANDARD
BEGIN:DAYLIGHT
TZOFFSETFROM:+0100
TZOFFSETTO:+0200
TZNAME:CEST
DTSTART:20240331T010000
END:DAYLIGHT
BEGIN:STANDARD
TZOFFSETFROM:+0200
TZOFFSETTO:+0100
TZNAME:CET
DTSTART:20241027T010000
END:STANDARD
BEGIN:DAYLIGHT
TZOFFSETFROM:+0100
TZOFFSETTO:+0200
TZNAME:CEST
DTSTART:20250330T010000
END:DAYLIGHT
BEGIN:STANDARD
TZOFFSETFROM:+0200
TZOFFSETTO:+0100
TZNAME:CET
DTSTART:20251026T010000
END:STANDARD
END:VTIMEZONE
BEGIN:VEVENT
DTSTART;TZID=Europe/Paris:20241208T150000
DTEND;TZID=Europe/Paris:20241208T163000
DTSTAMP:20260423T005823
CREATED:20250126T163222Z
LAST-MODIFIED:20250401T190823Z
UID:26-1733670000-1733675400@ensemble-boni.org
SUMMARY:Concert de Noël - Locmiquélic
DESCRIPTION:Programme de Noël \nEnsemble vocal Guillaume Boni\, et Frédéric Labarre à l’orgue \nArticle de presse : Partage et émotion au concert vocal de Noël à Locmiquélic
URL:https://ensemble-boni.org/concert/concert-de-noel-locmiquelic/
LOCATION:Église Saint-Michel\, Locmiquélic\, Rue de l'Église\, Locmiquélic\, 56570
ATTACH;FMTTYPE=image/jpeg:https://ensemble-boni.org/wp-content/uploads/2025/01/affiche-concert-2024-12-08-locmiquelic.jpg
END:VEVENT
BEGIN:VEVENT
DTSTART;TZID=Europe/Paris:20241215T150000
DTEND;TZID=Europe/Paris:20241215T163000
DTSTAMP:20260423T005823
CREATED:20250126T161249Z
LAST-MODIFIED:20250408T193410Z
UID:20-1734274800-1734280200@ensemble-boni.org
SUMMARY:Concert de Noël - La Bernerie-en-Retz
DESCRIPTION:Programme de Noël (et extraits du Messie de Haendel)\, avec participation du public à certains chants. \nEnsemble vocal Guillaume Boni\, direction Etienne Roullet\, et Martine Rochedreux à l’orgue. \nPresse : Les auditeurs pourront fredonner les chants de Noël à La Bernerie-en-Retz
URL:https://ensemble-boni.org/concert/concert-de-noel-la-bernerie-en-retz/
LOCATION:Eglise Notre-Dame de Bon Secours\, La Bernerie-en-Retz\, 12 Rue Jean Duplessis\, La Bernerie-en-Retz\, 44760\, France
ATTACH;FMTTYPE=image/jpeg:https://ensemble-boni.org/wp-content/uploads/2025/01/affiche-concert-2024-12-15-la-bernerie-en-retz.jpg
ORGANIZER;CN="Les Amis de l%E2%80%99Orgue de La Bernerie en Retz":MAILTO:orgami44760@gmail.com
END:VEVENT
END:VCALENDAR