BEGIN:VCALENDAR
VERSION:2.0
PRODID:-//Ensemble Guillaume Boni - ECPv6.15.20//NONSGML v1.0//EN
CALSCALE:GREGORIAN
METHOD:PUBLISH
X-ORIGINAL-URL:https://ensemble-boni.org
X-WR-CALDESC:Évènements pour Ensemble Guillaume Boni
REFRESH-INTERVAL;VALUE=DURATION:PT1H
X-Robots-Tag:noindex
X-PUBLISHED-TTL:PT1H
BEGIN:VTIMEZONE
TZID:Europe/Paris
BEGIN:DAYLIGHT
TZOFFSETFROM:+0100
TZOFFSETTO:+0200
TZNAME:CEST
DTSTART:20230326T010000
END:DAYLIGHT
BEGIN:STANDARD
TZOFFSETFROM:+0200
TZOFFSETTO:+0100
TZNAME:CET
DTSTART:20231029T010000
END:STANDARD
BEGIN:DAYLIGHT
TZOFFSETFROM:+0100
TZOFFSETTO:+0200
TZNAME:CEST
DTSTART:20240331T010000
END:DAYLIGHT
BEGIN:STANDARD
TZOFFSETFROM:+0200
TZOFFSETTO:+0100
TZNAME:CET
DTSTART:20241027T010000
END:STANDARD
BEGIN:DAYLIGHT
TZOFFSETFROM:+0100
TZOFFSETTO:+0200
TZNAME:CEST
DTSTART:20250330T010000
END:DAYLIGHT
BEGIN:STANDARD
TZOFFSETFROM:+0200
TZOFFSETTO:+0100
TZNAME:CET
DTSTART:20251026T010000
END:STANDARD
END:VTIMEZONE
BEGIN:VEVENT
DTSTART;TZID=Europe/Paris:20241124T160000
DTEND;TZID=Europe/Paris:20241124T173000
DTSTAMP:20260423T021053
CREATED:20250126T201918Z
LAST-MODIFIED:20250408T193838Z
UID:419-1732464000-1732469400@ensemble-boni.org
SUMMARY:40 ans de titulariat de Martine Rochedreux - Nantes Saint-Félix
DESCRIPTION:Concert organisé en l’honneur des 40 ans passés par Martine Rochedreux en tant qu’organiste titulaire des orgues de Saint-Félix de Nantes. \nOeuvres de Franck\, Fauré\, Saint-Saëns\, Haendel. \nPresse : L’organiste Martine Rochedreux vit son rêve d’enfant et de « cockpit d’avion »
URL:https://ensemble-boni.org/concert/40-ans-de-titulariat-de-martine-rochedreux-nantes-saint-felix/
LOCATION:Église Saint-Félix\, Nantes\, Place St Félix\, Nantes\, 44000\, France
ATTACH;FMTTYPE=image/jpeg:https://ensemble-boni.org/wp-content/uploads/2025/01/affiche-concert-2024-11-24-nantes.jpg
END:VEVENT
END:VCALENDAR